BEGIN:VCALENDAR
VERSION:2.0
PRODID:-//hacksw/handcal//NONSGML v1.0//EN
CALSCALE:GREGORIAN
BEGIN:VEVENT
DTEND:20221008T180000Z
UID: 69e79258299c2
DTSTAMP:20260421T100600Z
LOCATION:Thorson-Lucken Field
DESCRIPTION:Augustana women's soccer will play the Millikin University Big Blue on Oct. 8.\n\n• Livestream\n\nUpcoming home games:\n\nOct. 12 vs. Elmhurst\, 7 p.m.\n\nOct. 15 vs. Adrian\, 1 p.m.\n\nOct. 26 vs. North Central\, 7 p.m.\n
URL;VALUE=URI:https://www.augustana.edu/about-us/events/2022/womens-soccer-vs-millikin
SUMMARY:Women's soccer vs. Millikin
DTSTART:20221008T180000Z
END:VEVENT
END:VCALENDAR
