BEGIN:VCALENDAR
VERSION:2.0
PRODID:-//hacksw/handcal//NONSGML v1.0//EN
CALSCALE:GREGORIAN
BEGIN:VEVENT
DTEND:20220915T000000Z
UID: 69e797452f041
DTSTAMP:20260421T102701Z
LOCATION:Thorson-Lucken Field
DESCRIPTION:Augustana women's soccer will play the Simpson College Storm on Sept. 14.\n\n• Livestream\n\nUpcoming home games:\n\nSept. 24 vs. North Park\, 1 p.m.\n\nOct. 8 vs. Millikin\, 1 p.m.\n\nOct. 12 vs. Elmhurst\, 7 p.m.\n\nOct. 15 vs. Adrian\, 1 p.m.\n\nOct. 26 vs. North Central\, 7 p.m.\n
URL;VALUE=URI:https://www.augustana.edu/about-us/events/2022/womens-soccer-vs-simpson
SUMMARY:Women's soccer vs. Simpson
DTSTART:20220915T000000Z
END:VEVENT
END:VCALENDAR
