BEGIN:VCALENDAR
VERSION:2.0
PRODID:-//hacksw/handcal//NONSGML v1.0//EN
CALSCALE:GREGORIAN
BEGIN:VEVENT
DTEND:20220911T180000Z
UID: 69e7923beecd6
DTSTAMP:20260421T100531Z
LOCATION:Thorson-Lucken Field
DESCRIPTION:Augustana women's soccer will play the Monmouth College Fighting Scots on Sept. 11.\n\n• Livestream\n\nUpcoming home games:\n\nSept. 14 vs. Simpson\, 7 p.m.\n\nSept. 24 vs. North Park\, 1 p.m.\n\nOct. 8 vs. Millikin\, 1 p.m.\n\nOct. 12 vs. Elmhurst\, 7 p.m.\n\nOct. 15 vs. Adrian\, 1 p.m.\n\nOct. 26 vs. North Central\, 7 p.m.\n
URL;VALUE=URI:https://www.augustana.edu/about-us/events/2022/womens-soccer-vs-monmouth
SUMMARY:Women's soccer vs. Monmouth
DTSTART:20220911T180000Z
END:VEVENT
END:VCALENDAR
