BEGIN:VCALENDAR
VERSION:2.0
PRODID:-//hacksw/handcal//NONSGML v1.0//EN
CALSCALE:GREGORIAN
BEGIN:VEVENT
DTEND:20221019T003000Z
UID: 69e79744143fe
DTSTAMP:20260421T102700Z
LOCATION:Thorson-Lucken Field
DESCRIPTION:The Vikings men's soccer team will play their last home game of the season against Wheaton on Oct. 19 at 7:30 p.m.\n
URL;VALUE=URI:https://www.augustana.edu/about-us/events/2022/mens-soccer-vs-wheaton
SUMMARY:Men's soccer vs. Wheaton
DTSTART:20221019T003000Z
END:VEVENT
END:VCALENDAR
