BEGIN:VCALENDAR
VERSION:2.0
PRODID:-//hacksw/handcal//NONSGML v1.0//EN
CALSCALE:GREGORIAN
BEGIN:VEVENT
DTEND:20221016T000000Z
UID: 69e794ca89dff
DTSTAMP:20260421T101626Z
LOCATION:Thorson-Lucken Field
DESCRIPTION:The Vikings men's soccer team will play a home game against UW-Whitewater on Oct. 15 at 7 p.m.\n\nHome schedule\n\nOct. 19 at 7:30 p.m. vs. Wheaton\n
URL;VALUE=URI:https://www.augustana.edu/about-us/events/2022/mens-soccer-vs-uw-whitewater
SUMMARY:Men's soccer vs. UW-Whitewater
DTSTART:20221016T000000Z
END:VEVENT
END:VCALENDAR
