BEGIN:VCALENDAR
VERSION:2.0
PRODID:-//hacksw/handcal//NONSGML v1.0//EN
CALSCALE:GREGORIAN
BEGIN:VEVENT
DTEND:20221008T203000Z
UID: 69e792091c4d9
DTSTAMP:20260421T100441Z
LOCATION:Thorson-Lucken Field
DESCRIPTION:The Vikings men's soccer team will play a home game against Millikin on Oct. 8 at 3:30 p.m.\n\nHome schedule\n\nOct.15 at 7 p.m. vs. UW-Whitewater\n\nOct. 19 at 7:30 p.m. vs. Wheaton\n
URL;VALUE=URI:https://www.augustana.edu/about-us/events/2022/mens-soccer-vs-millikin
SUMMARY:Men's soccer vs. Millikin
DTSTART:20221008T203000Z
END:VEVENT
END:VCALENDAR
