BEGIN:VCALENDAR
VERSION:2.0
PRODID:-//hacksw/handcal//NONSGML v1.0//EN
CALSCALE:GREGORIAN
BEGIN:VEVENT
DTEND:20170305T180000Z
UID: 69e9298222009
DTSTAMP:20260422T150314Z
LOCATION:Thorson-Lucken Field
DESCRIPTION:Augie's men's lacrosse team will be taking on Centre College at home.\n\nWatch online here.\n\nWebsite:&nbsp\;http://athletics.augustana.edu/index.aspx?path=mlax\n
URL;VALUE=URI:https://www.augustana.edu/about-us/events/2017/mens-lacrosse-vs-centre-college
SUMMARY:Men's lacrosse vs. Centre College
DTSTART:20170305T180000Z
END:VEVENT
END:VCALENDAR
