BEGIN:VCALENDAR
VERSION:2.0
PRODID:-//hacksw/handcal//NONSGML v1.0//EN
CALSCALE:GREGORIAN
BEGIN:VEVENT
DTEND:20170304T010000Z
UID: 69e929077a808
DTSTAMP:20260422T150111Z
LOCATION:Thorson-Lucken Field
DESCRIPTION:The Augustana men's lacrosse team will play vs Concordia Wisconsin.\n\nWatch online.\n\nThe team also will play at home on:\n\nMarch 5 vs. Centre\nMarch 8 vs. Benedictine\nMarch 25 vs. Albion\nApril 5 vs. Dubuque\nApril 29 vs. Elmhurst\n
URL;VALUE=URI:https://www.augustana.edu/about-us/events/2017/mens-lacrosse-vs-concordia-wisconsin
SUMMARY:Men's lacrosse vs. Concordia Wisconsin
DTSTART:20170304T010000Z
END:VEVENT
END:VCALENDAR
