BEGIN:VCALENDAR
VERSION:2.0
PRODID:-//hacksw/handcal//NONSGML v1.0//EN
CALSCALE:GREGORIAN
BEGIN:VEVENT
DTEND:20221015T220000Z
UID: 69e797401ec08
DTSTAMP:20260421T102656Z
LOCATION:Saukie Golf Course 
DESCRIPTION:Augustana's cross country teams will host the Interregional Invite.\n\n&nbsp\;\n
URL;VALUE=URI:https://www.augustana.edu/about-us/events/2022/cross-country-interregional
SUMMARY:Cross country: Augustana Interregional Invite
DTSTART:20221015T220000Z
END:VEVENT
END:VCALENDAR
