BEGIN:VCALENDAR
VERSION:2.0
PRODID:-//hacksw/handcal//NONSGML v1.0//EN
CALSCALE:GREGORIAN
BEGIN:VEVENT
DTEND:20170219T190000Z
UID: 69e9292da4c01
DTSTAMP:20260422T150149Z
LOCATION:Thorson-Lucken Field
DESCRIPTION:The&nbsp\;Augustana men's lacrosse team&nbsp\;will open its home season&nbsp\;vs. Concordia Wisconsin.\n\nWatch online.\n\nThe team also will play at home on:\n\nMarch 3 vs. Concordia Wisconsin\nMarch 5 vs. Centre\nMarch 8 vs. Benedictine\nMarch 25 vs. Albion\nApril 5 vs. Dubuque\nApril 29 vs. Elmhurst\n
URL;VALUE=URI:https://www.augustana.edu/about-us/events/2017/mens-lacrosse-vs-cornell
SUMMARY:Men's lacrosse vs. Cornell
DTSTART:20170219T190000Z
END:VEVENT
END:VCALENDAR
