BEGIN:VCALENDAR
VERSION:2.0
PRODID:-//hacksw/handcal//NONSGML v1.0//EN
CALSCALE:GREGORIAN
BEGIN:VEVENT
DTEND:20230402T190000Z
UID: 69e7ad9346089
DTSTAMP:20260421T120211Z
LOCATION:Centennial Hall
DESCRIPTION:The Quad City Symphony Orchestra will present "Masterworks VI: Mahler One."\n\nProgram\n\nSergei Prokofiev "Violin Concerto No. 1\, Op. 19"\n\nGustav Mahler "Symphony No. 1 in D\, 'Titan'"\n
URL;VALUE=URI:https://www.augustana.edu/about-us/events/2022/quad-city-symphony-orchestra-mahler
SUMMARY:Quad City Symphony Orchestra: 'Mahler One'
DTSTART:20230402T190000Z
END:VEVENT
END:VCALENDAR
