BEGIN:VCALENDAR
VERSION:2.0
PRODID:-//hacksw/handcal//NONSGML v1.0//EN
CALSCALE:GREGORIAN
BEGIN:VEVENT
DTEND:20230205T200000Z
UID: 69e7ad8eba845
DTSTAMP:20260421T120206Z
LOCATION:Centennial Hall
DESCRIPTION:The Quad City Symphony Orchestra will present "Masterworks IV: Bella &amp\; Brahms."\n\nProgram\n\nRichard Wagner "Rienzi Overture\, WWV 49"\n\nJohannes Brahms "Symphony No. 3 in F\, Op. 90"\n\nDmitri Shostakovich "Violin Concerto No. 1 in A minor\, Op. 77\," with violinist Bella Hristova\n\n&nbsp\;\n
URL;VALUE=URI:https://www.augustana.edu/about-us/events/2022/quad-city-symphony-orchestra-bella
SUMMARY:Quad City Symphony Orchestra: Masterworks IV: Bella & Brahms
DTSTART:20230205T200000Z
END:VEVENT
END:VCALENDAR
