BEGIN:VCALENDAR
VERSION:2.0
PRODID:-//hacksw/handcal//NONSGML v1.0//EN
CALSCALE:GREGORIAN
BEGIN:VEVENT
DTEND:20221106T200000Z
UID: 69e7ad8e858f4
DTSTAMP:20260421T120206Z
LOCATION:Centennial Hall
DESCRIPTION:The Quad City Symphony Orchestra will present "Masterworks II: Fit for a King\," featuring Duke Ellington’s jazz and gospel-influenced "Three Black Kings."\n\nThe theme will continue with Ernest Bloch’s "Schelomo\," the final work of his Jewish Cycle\;&nbsp\;Michael Daugherty’s "Dead Elvis"\; Johann Strauss\, Jr.’s "Emperor Waltz"\; and William Walton’s "Henry V Suite."\n\n&nbsp\;\n
URL;VALUE=URI:https://www.augustana.edu/about-us/events/2022/quad-city-symphony-orchestra-king
SUMMARY:Quad City Symphony Orchestra: 'Fit for a King'
DTSTART:20221106T200000Z
END:VEVENT
END:VCALENDAR
