BEGIN:VCALENDAR
VERSION:2.0
PRODID:-//hacksw/handcal//NONSGML v1.0//EN
CALSCALE:GREGORIAN
BEGIN:VEVENT
DTEND:20220612T060000Z
UID: 69e7c4d0338a4
DTSTAMP:20260421T134120Z
LOCATION:The Artsy Bookworm
DESCRIPTION:Dr. Jason Mahn\, professor of religion\, will read from his book\, "Neighbor Love Through Fearful Days. Finding Purpose and Meaning in a Time of Crisis."\n\nWeather permitting\, the event will be held outdoors\, so those attending may wish to bring lawn chairs.\n\nThe book "is a reflection on pandemics — the COVID-19 pandemic\, the accompanying economic collapse\, a summer of climate chaos\, and the pandemic of white supremacy — as well as on the calling to 'serve thy neighbor' and work toward the common good\, even and especially in times of crisis."\n\n\n&nbsp\;\n
URL;VALUE=URI:https://www.augustana.edu/about-us/events/2022/jason-mahn-neighbor-love-through-fearful-days
SUMMARY:Jason Mahn: 'Neighbor Love Through Fearful Days'
DTSTART:20220612T060000Z
END:VEVENT
END:VCALENDAR
