BEGIN:VCALENDAR
VERSION:2.0
PRODID:-//hacksw/handcal//NONSGML v1.0//EN
CALSCALE:GREGORIAN
BEGIN:VEVENT
DTEND:20230527T190000Z
UID: 69e7ad8f44ced
DTSTAMP:20260421T120207Z
LOCATION:Vibrant Arena at the Mark
DESCRIPTION:Augustana College will hold its 163rd Commencement Convocation at 2 p.m.\n\nThe ceremony will be live-streamed and archived on the college’s YouTube channel.\n\nNo tickets are required. Attendees will walk through metal detectors before entering the center.\n\nPurses\, backpacks and bags should be left at home or in a vehicle\, if possible. Airhorns\, noisemakers and helium balloons are prohibited.\n
URL;VALUE=URI:https://www.augustana.edu/about-us/events/2023/commencement
SUMMARY:163rd Commencement
DTSTART:20230527T190000Z
END:VEVENT
END:VCALENDAR
