BEGIN:VCALENDAR
VERSION:2.0
PRODID:-//hacksw/handcal//NONSGML v1.0//EN
CALSCALE:GREGORIAN
BEGIN:VEVENT
DTEND:20221105T180000Z
UID: 69e7ad9444172
DTSTAMP:20260421T120212Z
LOCATION:Lindberg Stadium 
DESCRIPTION:The Augustana Vikings will play football vs. Carthage College.\n\nThe game will be live-streamed.\n\nComplete schedule\n
URL;VALUE=URI:https://www.augustana.edu/about-us/events/2022/football-vs-carthage-college
SUMMARY:Football vs. Carthage College
DTSTART:20221105T180000Z
END:VEVENT
END:VCALENDAR
