BEGIN:VCALENDAR
VERSION:2.0
PRODID:-//hacksw/handcal//NONSGML v1.0//EN
CALSCALE:GREGORIAN
BEGIN:VEVENT
DTEND:20221029T180000Z
UID: 69e7ad7e729e9
DTSTAMP:20260421T120150Z
LOCATION:
DESCRIPTION:The Augustana Vikings will play football vs. Illinois Wesleyan University.\n\nThe game will be live-streamed.\n\nOther home games this season:\n\nNov. 5 vs. Carthage\n\nComplete schedule\n
URL;VALUE=URI:https://www.augustana.edu/about-us/events/2022/football-vs-illinois-wesleyan-university
SUMMARY:Football vs. Illinois Wesleyan University
DTSTART:20221029T180000Z
END:VEVENT
END:VCALENDAR
