BEGIN:VCALENDAR
VERSION:2.0
PRODID:-//hacksw/handcal//NONSGML v1.0//EN
CALSCALE:GREGORIAN
BEGIN:VEVENT
DTEND:20221015T200000Z
UID: 69e7ad8e85a53
DTSTAMP:20260421T120206Z
LOCATION:
DESCRIPTION:The Augustana Vikings will play football vs. Washington-St. Louis for their Homecoming game.\n\nThe game will be live-streamed.\n\nOther home games this season:\n\nOct. 29 vs. Illinois Wesleyan\nNov. 5 vs. Carthage\n\nComplete schedule\n
URL;VALUE=URI:https://www.augustana.edu/about-us/events/2022/football-vs-washington-st-louis
SUMMARY:Football vs. Washington-St. Louis
DTSTART:20221015T200000Z
END:VEVENT
END:VCALENDAR
