BEGIN:VCALENDAR
VERSION:2.0
PRODID:-//hacksw/handcal//NONSGML v1.0//EN
CALSCALE:GREGORIAN
BEGIN:VEVENT
DTEND:20220924T230000Z
UID: 69e7ad7e8c140
DTSTAMP:20260421T120150Z
LOCATION:
DESCRIPTION:The Augustana Vikings will play football vs. Wheaton College.\n\nThe game will be live-streamed.\n\nOther home games this season:\n\nOct. 15 vs. Washington-St. Louis\nOct. 29 vs. Illinois Wesleyan\nNov. 5 vs. Carthage\n\nComplete schedule\n
URL;VALUE=URI:https://www.augustana.edu/about-us/events/2022/football-vs-wheaton-college
SUMMARY:Football vs. Wheaton College
DTSTART:20220924T230000Z
END:VEVENT
END:VCALENDAR
