BEGIN:VCALENDAR
VERSION:2.0
PRODID:-//hacksw/handcal//NONSGML v1.0//EN
CALSCALE:GREGORIAN
BEGIN:VEVENT
DTEND:20220627T140000Z
UID: 69e7a6c7b52e2
DTSTAMP:20260421T113311Z
LOCATION:The Gerber Center for Student Life
DESCRIPTION:Prospective students and families are invited to Summer Visit Day: Learn about&nbsp\;Augustana's mission and values\, the admissions process and&nbsp\; financial aid.\n\n2022 visit days are June 23 and 27\; July 11\, 18 and 25\; and Aug. 1.&nbsp\;\n\nOn each Summer Visit Day\, students can pick a specific area of study for an academic session or opt for a&nbsp\;general overview of academics.\n\nAt the Opportunities Fair\, students can learn about all Augustana has to offer. Later\, campus tour guides will talk about what life is like as an Augustana Viking.\n
URL;VALUE=URI:https://www.augustana.edu/about-us/events/2022/summer-visit-day27
SUMMARY:Summer Visit Day
DTSTART:20220627T140000Z
END:VEVENT
END:VCALENDAR
