BEGIN:VCALENDAR
VERSION:2.0
PRODID:-//hacksw/handcal//NONSGML v1.0//EN
CALSCALE:GREGORIAN
BEGIN:VEVENT
DTEND:20170316T000000Z
UID: 69e9295619117
DTSTAMP:20260422T150230Z
LOCATION:Thorson-Lucken Field
DESCRIPTION:The women's lacrosse team will play its first home game of the season against Monmouth.\n\nWatch the game online here.\n\nWebsite:&nbsp\;http://athletics.augustana.edu/index.aspx?path=wlax\n
URL;VALUE=URI:https://www.augustana.edu/about-us/events/2017/womens-lacrosse-vs-monmouth
SUMMARY:Women's lacrosse vs. Monmouth
DTSTART:20170316T000000Z
END:VEVENT
END:VCALENDAR
