BEGIN:VCALENDAR
VERSION:2.0
PRODID:-//hacksw/handcal//NONSGML v1.0//EN
CALSCALE:GREGORIAN
BEGIN:VEVENT
DTEND:20220516T023000Z
UID: 69e7a68acaef4
DTSTAMP:20260421T113210Z
LOCATION:John Deere Planetarium and Carl Gamble Observatory
DESCRIPTION:The&nbsp\;John Deere Planetarium&nbsp\;at Augustana College will offer a free public program in conjunction with the total eclipse of the moon.\n\nThe planetarium will be open from 9:30-11:30 p.m.\, with indoor and outdoor programs in the planetarium\, the Carl Gamble Observatory\, and the building's grounds. Masks are required inside all Augustana buildings.\n\nIn addition to the 14-inch reflector in the Carl Gamble Observatory and telescopes on the grounds\, a planetarium show on the wonders of the night sky will be offered.\n\nThe Fryxell Geology Museum\, which features one of the best collections of minerals and fossils in the Midwest\, also will be open to the public. Highlights in the museum include a wall of glowing\, fluorescent rocks\, casts of a Tyrannosaurus rex skull\, and a complete 22-foot long skeleton of&nbsp\;Cryolophosaurus\, a large crested carnivorous dinosaur discovered in Antarctica by Augustana paleontologist Dr. William Hammer.\n\nIn the event of cloudy skies\, the planetarium presentation will still be offered.\n
URL;VALUE=URI:https://www.augustana.edu/about-us/events/2022/planetarium-lunar-eclipse-night
SUMMARY:Planetarium lunar eclipse night
DTSTART:20220516T023000Z
END:VEVENT
END:VCALENDAR
