BEGIN:VCALENDAR
VERSION:2.0
PRODID:-//hacksw/handcal//NONSGML v1.0//EN
CALSCALE:GREGORIAN
BEGIN:VEVENT
DTEND:20220514T220000Z
UID: 69e7bb523bf6b
DTSTAMP:20260421T130050Z
LOCATION:
DESCRIPTION:Soprano Jessa Simon will present a voice recital. She is a junior theatre major from New Lenox\, Ill.&nbsp\;\n\nEffective May 9: Everyone — vaccinated or not — is required to mask indoors in all public spaces\, including hallways and when visiting campus offices.\n\nProgram\n\n"As When the Dove Laments Her Love" by George Frideric Handel\, accompanied by&nbsp\;Dr. Robert Elfline\n\n"Lá ci darem la mano" from "Don Giovanni" by Wolfgang Amadeus Mozart\, performed with Ben Radeke\n\n"Heiss mich nicht reden" by Franz Schubert\, accompanied by&nbsp\;Dr. Elfline\n\n"Adieu\, Notre Petite Table" from "Manon" by Jules Massenet\, accompanied by&nbsp\;Dr. Elfline\n\nJeanne d'Arc's aria from "The Maid of Orleans" by Pyotr Ilyich Tchaikovsky\, accompanied by&nbsp\;Dr. Elfline\n\n"Wedding Song" from "Hadestown" by Anaïs Mitchell\, accompanied by and performed with Ryan J. Hurdle\n\n"Flowers" from "Hadestown" by Anaïs Mitchell\, accompanied by Ryan J. Hurdle\n
URL;VALUE=URI:https://www.augustana.edu/about-us/events/2022/student-recital-jessa-simon-soprano
SUMMARY:Student recital: Jessa Simon\, soprano
DTSTART:20220514T220000Z
END:VEVENT
END:VCALENDAR
