BEGIN:VCALENDAR
VERSION:2.0
PRODID:-//hacksw/handcal//NONSGML v1.0//EN
CALSCALE:GREGORIAN
BEGIN:VEVENT
DTEND:20220522T190000Z
UID: 69e7bb2e90458
DTSTAMP:20260421T130014Z
LOCATION:Vibrant Arena at the Mark
DESCRIPTION:Augustana College will hold its 162nd Commencement Convocation at 2 p.m.&nbsp\;&nbsp\;Doors will open at noon for those who need accessible seating. Doors will open to the public at 12:15 p.m.&nbsp\;\n\nThe ceremony will be live-streamed and archived on the college’s YouTube channel.&nbsp\;\n\nNo tickets are required. Attendees will walk through metal detectors before entering the center.\n\nPurses\, backpacks and bags should be left at home or in a vehicle\, if possible.\n
URL;VALUE=URI:https://www.augustana.edu/about-us/events/2022/162nd-commencement
SUMMARY:162nd Commencement
DTSTART:20220522T190000Z
END:VEVENT
END:VCALENDAR
