BEGIN:VCALENDAR
VERSION:2.0
PRODID:-//hacksw/handcal//NONSGML v1.0//EN
CALSCALE:GREGORIAN
BEGIN:VEVENT
DTEND:20220423T140000Z
UID: 69e7b860500d0
DTSTAMP:20260421T124816Z
LOCATION:Centennial Hall
DESCRIPTION:It Begins with A! is a traditional Admissions event for&nbsp\;for admitted students to meet others who have chosen Augustana\, and those still deciding.&nbsp\;\n\nTake a campus tour\, have lunch in the dining hall and go to a variety of informational sessions.\n\nTopics will include: where you will live\, study abroad and internships\, how to balance arts or athletics and academics\, and much more. Plus\, you can get a jump on what you need to know about summer orientation. And meet with current students who have tips and advice.\n\nRegister!\n
URL;VALUE=URI:https://www.augustana.edu/about-us/events/2022/it-begins
SUMMARY:It Begins with A!
DTSTART:20220423T140000Z
END:VEVENT
END:VCALENDAR
