BEGIN:VCALENDAR
VERSION:2.0
PRODID:-//hacksw/handcal//NONSGML v1.0//EN
CALSCALE:GREGORIAN
BEGIN:VEVENT
DTEND:20220514T160000Z
UID: 69e7bba539923
DTSTAMP:20260421T130213Z
LOCATION:
DESCRIPTION:Augustana harp students will perform in a studio recital with solo and harp ensemble performances. The recital will include solo works by Felix Godefroid and Marcel Grandjany\, and harp ensemble works by Daniele Garella and Klaus Badelt.\n\nEffective May 9: Everyone — vaccinated or not — is required to mask indoors in all public spaces\, including hallways and when visiting campus offices.\n
URL;VALUE=URI:https://www.augustana.edu/about-us/events/2022/harp-studio-recital
SUMMARY:Harp Studio Recital
DTSTART:20220514T160000Z
END:VEVENT
END:VCALENDAR
