BEGIN:VCALENDAR
VERSION:2.0
PRODID:-//hacksw/handcal//NONSGML v1.0//EN
CALSCALE:GREGORIAN
BEGIN:VEVENT
DTEND:20170315T010000Z
UID: 69e928da4ee55
DTSTAMP:20260422T150026Z
LOCATION:Denkmann Memorial Building
DESCRIPTION:Augustana flute instructor Janet Stodd will perform a recital.\n\nShe plays piccolo in the Quad City Symphony and is flutist for the Symphony's Woodwind Outreach Concerts. She is founder and director of the Augustana Flute Choir and is a member of the National Flute Choir.\n\nShe is also founder and president of Quad City Flutes Unlimited. Since 2003 she has been principal flutist and orchestra manager for the Quad City Opera Company.\n
URL;VALUE=URI:https://www.augustana.edu/about-us/events/2017/faculty-recital-janet-stodd
SUMMARY:Faculty recital: Janet Stodd
DTSTART:20170315T010000Z
END:VEVENT
END:VCALENDAR
