BEGIN:VCALENDAR
VERSION:2.0
PRODID:-//hacksw/handcal//NONSGML v1.0//EN
CALSCALE:GREGORIAN
BEGIN:VEVENT
DTEND:20220421T003000Z
UID: 69e7be8e9ec05
DTSTAMP:20260421T131438Z
LOCATION:Olin Center for Educational Technology
DESCRIPTION:Dr. Emily Landon ’99 will present "From Pandemic to Endemic."\n\nDr. Landon has been a familiar face to Illinois households since March 2020 as an advisor to Gov. J.B. Pritzker and a primary architect of the state's response to the COVID-19 pandemic.\n\nShe is the chief infectious disease epidemiologist at University of Chicago Medicine and an associate professor of medicine.&nbsp\;In addition\, Dr. Landon is a medical ethicist at the MacLean Center for Clinical Medical Ethics at the university.\n\nHer lecture is sponsored by the Augustana Center for the Study of Ethics and the Augustana public health program.\n
URL;VALUE=URI:https://www.augustana.edu/about-us/events/2022/dr-emily-landon-pandemic-endemic
SUMMARY:Dr. Emily Landon: 'From Pandemic to Endemic'
DTSTART:20220421T003000Z
END:VEVENT
END:VCALENDAR
