BEGIN:VCALENDAR
VERSION:2.0
PRODID:-//hacksw/handcal//NONSGML v1.0//EN
CALSCALE:GREGORIAN
BEGIN:VEVENT
DTEND:20230315T230000Z
UID: 69e759dc83488
DTSTAMP:20260421T060500Z
LOCATION:Swanson Stadium/Brunner Field
DESCRIPTION:The&nbsp\;Vikings baseball team&nbsp\;will play the Monmouth College Scots in their home opener.\n\nIt's the first game in the Augustana Invitational Tournament. The Vikings will take on Buena Vista at 5:30 p.m. on Saturday and Dominican at 2:30 p.m. on Sunday.\n\n•&nbsp\;Vikings baseball schedule\n\n&nbsp\;\n
URL;VALUE=URI:https://www.augustana.edu/about-us/events/2023/baseball-vs-monmouth-college
SUMMARY:Baseball vs. Monmouth College
DTSTART:20230315T230000Z
END:VEVENT
END:VCALENDAR
