BEGIN:VCALENDAR
VERSION:2.0
PRODID:-//hacksw/handcal//NONSGML v1.0//EN
CALSCALE:GREGORIAN
BEGIN:VEVENT
DTEND:20220424T210000Z
UID: 69e7be895d396
DTSTAMP:20260421T131433Z
LOCATION:Denkmann Memorial Building
DESCRIPTION:Junior Maria Coulter\, soprano\, will offer a voice recital\, also featuring soprano&nbsp\;Abriana Tereza.\n\nCoulter is from Peoria\, Ill.\, majoring in vocal music performance and communication studies.\n\nTereza is a sophomore from Schaumburg\, Ill.\, majoring in vocal music education.\n\nProgram\n\nGabriel Fauré (1845-1924):&nbsp\;Notre Amour\,&nbsp\;Ici-bas &nbsp\;\n\nThe Shepherd\, Lee Hoiby (1926-2011)\nThe Crucifixion\, Samuel Barber (1910-1981)\nAlleluia\, Ned Rorem (b.1923)\n\nTu Virginum from the Exsultate\, Jubilate\, Wolfgang Amadeus Mozart (1756-1791)\n\nDuets featuring Abriana Tereza\nDialogo della ninfa e pastor\, Claudio Monteverdi (1567-1643)\n&nbsp\;&nbsp\; &nbsp\;Nymph: Maria\n&nbsp\;&nbsp\; &nbsp\;Shepherd: Abriana\nSous le dôme épais from Lakmé\, Leo Delibes (1836-1891)\n&nbsp\;&nbsp\; &nbsp\;Lakmé: Maria&nbsp\;\n&nbsp\;&nbsp\; &nbsp\;Malika: Abriana&nbsp\;\n\nMein Herr Marquis from "Die Fledermaus\," Johann Strauss II &nbsp\;(1825-1899)&nbsp\;\n\nWhat Good Would the Moon Be? from Street Scene\, Kurt Weill (1900-1950)\n&nbsp\;\n
URL;VALUE=URI:https://www.augustana.edu/about-us/events/2022/junior-recital-maria-coulter-soprano
SUMMARY:Junior recital: Maria Coulter\, soprano
DTSTART:20220424T210000Z
END:VEVENT
END:VCALENDAR
