BEGIN:VCALENDAR
VERSION:2.0
PRODID:-//hacksw/handcal//NONSGML v1.0//EN
CALSCALE:GREGORIAN
BEGIN:VEVENT
DTEND:20220428T003000Z
UID: 69e7f1fd1611c
DTSTAMP:20260421T165405Z
LOCATION:Denkmann Memorial Building
DESCRIPTION:Russell Schmidt will perform his senior piano recital.\n\nHe is from Coal Valley\, Ill.\, majoring in music performance and pre-medicine.\n\nProgram\n\nPiano Sonata No 21. Op. 53\, (“Waldstein)&nbsp\; Ludwig van Beethoven (1770-1827)\n\n1.&nbsp\;&nbsp\; &nbsp\;Allegro con Brio\n2.&nbsp\;&nbsp\; &nbsp\;Introduction\n3.&nbsp\;&nbsp\; &nbsp\;Allegretto Moderato\n\nEstampes\, L. 100 Claude Debussy&nbsp\;(1862-1918)\n\n1.&nbsp\;&nbsp\; &nbsp\;Pagodes\n2.&nbsp\;&nbsp\; &nbsp\;La Soirée dans Grenade\n3.&nbsp\;&nbsp\; &nbsp\;Jardins sous la Pluie\n\nPiano Sonata\, Op. 26 Samuel Barber&nbsp\;(1894-1953)\n\n1.&nbsp\;&nbsp\; &nbsp\;Allegro Energico\n2.&nbsp\;&nbsp\; &nbsp\;Allegro Vivace e Leggero\n3.&nbsp\;&nbsp\; &nbsp\;Adagio Mesto\n4.&nbsp\;&nbsp\; &nbsp\;Fuga: Allegro con Spirito\n
URL;VALUE=URI:https://www.augustana.edu/about-us/events/2022/senior-recital-russell-schmidt-piano
SUMMARY:Senior recital: Russell Schmidt\, piano
DTSTART:20220428T003000Z
END:VEVENT
END:VCALENDAR
