BEGIN:VCALENDAR
VERSION:2.0
PRODID:-//hacksw/handcal//NONSGML v1.0//EN
CALSCALE:GREGORIAN
BEGIN:VEVENT
DTEND:20220503T000000Z
UID: 69e7c4efbf28d
DTSTAMP:20260421T134151Z
LOCATION:
DESCRIPTION:Holocaust survivor Rodi Glass will speak about her experiences as a child in the Nazi-occupied Netherlands.\n\nRodi Glass was born in Amsterdam\, The Netherlands\, in 1936. &nbsp\;In 1942\, she and her family were sent to the Westerbork concentration camp\, released\, and returned to Amsterdam only to be arrested twice more and sent to Westerbork. From there\, they were sent to an internment camp in Vittel\, France. They were liberated in the fall of 1944 by the U.S. Army.\n\nOf the extended family\, only Rodi (one of seven children)\, her parents\, and one aunt survived. She and her parents immigrated to the U.S. in April 1951.\n\nAfter her talk\, there will be time for Q&amp\;A.\n
URL;VALUE=URI:https://www.augustana.edu/about-us/events/2022/holocaust-survivor-rodi-glass
SUMMARY:Holocaust survivor Rodi Glass
DTSTART:20220503T000000Z
END:VEVENT
END:VCALENDAR
