BEGIN:VCALENDAR
VERSION:2.0
PRODID:-//hacksw/handcal//NONSGML v1.0//EN
CALSCALE:GREGORIAN
BEGIN:VEVENT
DTEND:20220515T200000Z
UID: 69e7c4baeb7bf
DTSTAMP:20260421T134058Z
LOCATION:First Lutheran Church (Moline)
DESCRIPTION:The Augustana Choir will perform a concert ahead of their departure for a tour of Germany and the Czech Republic.\n
URL;VALUE=URI:https://www.augustana.edu/about-us/events/2022/augustana-choir-pre-tour-concert
SUMMARY:Augustana Choir pre-tour concert
DTSTART:20220515T200000Z
END:VEVENT
END:VCALENDAR
