BEGIN:VCALENDAR
VERSION:2.0
PRODID:-//hacksw/handcal//NONSGML v1.0//EN
CALSCALE:GREGORIAN
BEGIN:VEVENT
DTEND:20220408T210000Z
UID: 69e7c4efbf629
DTSTAMP:20260421T134151Z
LOCATION:Centennial Hall
DESCRIPTION:The Augustana Teaching Museum of Art will feature a faculty art show April 8-25. A public opening reception be held from 4-5:30 p.m. April 8.\n\nThe work of Paul Lang\, Kelvin Mason\, Vickie Phipps\, Megan Quinn\, Rowen Schussheim-Anderson\, Corrine Smith\, Lee White and Peter Xiao will be displayed.\n\nExcept for Easter weekend\, the museum will be open from noon-4 p.m. Tuesday-Saturday.\n&nbsp\;\n
URL;VALUE=URI:https://www.augustana.edu/about-us/events/2022/faculty-art-show-opening-reception
SUMMARY:Faculty art show opening reception
DTSTART:20220408T210000Z
END:VEVENT
END:VCALENDAR
