BEGIN:VCALENDAR
VERSION:2.0
PRODID:-//hacksw/handcal//NONSGML v1.0//EN
CALSCALE:GREGORIAN
BEGIN:VEVENT
DTEND:20220410T000000Z
UID: 69e7be4ad22d2
DTSTAMP:20260421T131330Z
LOCATION:
DESCRIPTION:Ainslie Lounsbury\, a senior from Libertyville\, Ill.\, will give a flute recital.\n\nShe is majoring in instrumental music education and Scandinavian studies.\n
URL;VALUE=URI:https://www.augustana.edu/about-us/events/2022/senior-recital-ainslie-lounsbury-flute
SUMMARY:Senior recital: Ainslie Lounsbury\, flute
DTSTART:20220410T000000Z
END:VEVENT
END:VCALENDAR
