BEGIN:VCALENDAR
VERSION:2.0
PRODID:-//hacksw/handcal//NONSGML v1.0//EN
CALSCALE:GREGORIAN
BEGIN:VEVENT
DTEND:20220402T180000Z
UID: 69e7be9fdcbc8
DTSTAMP:20260421T131455Z
LOCATION:
DESCRIPTION:Senior Jared Reiling will perform a piano recital\, with Dr. Robert Elfline and Russell Schmidt. The program will include pieces by Brahms\, Steve Reich and Witold Lutoslawaki.\n\nReiling is a math and piano performance major from Crystal Lake\, Ill.\n\n&nbsp\;\n
URL;VALUE=URI:https://www.augustana.edu/about-us/events/2022/senior-recital-jared-reiling-piano
SUMMARY:Senior recital: Jared Reiling\, piano
DTSTART:20220402T180000Z
END:VEVENT
END:VCALENDAR
