BEGIN:VCALENDAR
VERSION:2.0
PRODID:-//hacksw/handcal//NONSGML v1.0//EN
CALSCALE:GREGORIAN
BEGIN:VEVENT
DTEND:20220414T000000Z
UID: 69e7b873aa42f
DTSTAMP:20260421T124835Z
LOCATION:Centennial Hall
DESCRIPTION:Augustana College will welcome “Beyoncé Mass\,” a groundbreaking Christian worship service that celebrates the spirituality of Black women.\n\nThe service uses the music and life of Beyoncé to cultivate an empowering conversation about Black women and create an experience of story\, scripture and song that calls for the liberation of all people.\n\nFree tickets are available in advance through the Ticket Office. Doors will open at 6 p.m. Any tickets not reserved in advance will be available at the door.\n\nThe Beyoncé Mass at Augustana is sponsored by Campus Ministries\, the Office of Diversity\, Equity and Inclusion\, the Office of Student Inclusion and Diversity\, and the Office of International Student and Scholar Service.\n
URL;VALUE=URI:https://www.augustana.edu/about-us/events/2022/beyonce-mass
SUMMARY:Beyoncé Mass
DTSTART:20220414T000000Z
END:VEVENT
END:VCALENDAR
