BEGIN:VCALENDAR
VERSION:2.0
PRODID:-//hacksw/handcal//NONSGML v1.0//EN
CALSCALE:GREGORIAN
BEGIN:VEVENT
DTEND:20220425T000000Z
UID: 69e7bba4e5037
DTSTAMP:20260421T130212Z
LOCATION:Lower Quad
DESCRIPTION:The Office of Sexual Assault Prevention Education will sponsor a Take Back the Night rally against sexual violence.\n\nSpeakers will include:\n\n• Pastor Melinda Pupillo\, campus chaplain and director of spiritual development\n\n•&nbsp\;Janey Locander\, Augustana student and poet\n\n• Nathan Leidig\, program and training coordinator\, The Project of the Quad Cities\n\n• Jo Ironshield\, advocate for missing and murdered indigenous women\n\n• Saisha Bhandari\, Augustana student peer educator\n\n• Mary Isabel Sales\, Augustana student\n\n• Kathlee Kilbride\, sexual assault nurse examiner at UnityPoint Health\n\n• Grace Gwozdz\, Augustana student\n\n• Megan Brown-Saldana\, executive director of Lead Her QC\n\nEvents are held around the world in April\, organized by the Take Back the Night Foundation.\n\nIn case of rain\, the event will move to the Denkmann Memorial Building.\n
URL;VALUE=URI:https://www.augustana.edu/about-us/events/2022/take-back-night
SUMMARY:Take Back the Night
DTSTART:20220425T000000Z
END:VEVENT
END:VCALENDAR
