BEGIN:VCALENDAR
VERSION:2.0
PRODID:-//hacksw/handcal//NONSGML v1.0//EN
CALSCALE:GREGORIAN
BEGIN:VEVENT
DTEND:20220423T210000Z
UID: 69e7d12d0c66e
DTSTAMP:20260421T143405Z
LOCATION:Thorson-Lucken Field
DESCRIPTION:The Augustana women's lacrosse team will play their senior night game against Carthage College.\n\n→ See the women's lacrosse schedule\n
URL;VALUE=URI:https://www.augustana.edu/about-us/events/2022/womens-lacrosse-vs-carthage
SUMMARY:Women's lacrosse vs. Carthage College
DTSTART:20220423T210000Z
END:VEVENT
END:VCALENDAR
