BEGIN:VCALENDAR
VERSION:2.0
PRODID:-//hacksw/handcal//NONSGML v1.0//EN
CALSCALE:GREGORIAN
BEGIN:VEVENT
DTEND:20220330T000000Z
UID: 69e7d1aa3a125
DTSTAMP:20260421T143610Z
LOCATION:Thorson-Lucken Field
DESCRIPTION:The Augustana women's lacrosse team will host the St. Ambrose University Fighting Bees.\n\n→ See the women's lacrosse schedule\n
URL;VALUE=URI:https://www.augustana.edu/about-us/events/2022/womens-lacrosse-vs-ambrose
SUMMARY:Women's lacrosse vs. St. Ambrose University 
DTSTART:20220330T000000Z
END:VEVENT
END:VCALENDAR
