BEGIN:VCALENDAR
VERSION:2.0
PRODID:-//hacksw/handcal//NONSGML v1.0//EN
CALSCALE:GREGORIAN
BEGIN:VEVENT
DTEND:20220312T190000Z
UID: 69e7bbc8939d8
DTSTAMP:20260421T130248Z
LOCATION:Thorson-Lucken Field
DESCRIPTION:The Augustana women's lacrosse team will host the Wartburg College Knights.\n\n→ See the women's lacrosse schedule\n
URL;VALUE=URI:https://www.augustana.edu/about-us/events/2022/womens-lacrosse-vs-wartburg
SUMMARY:Women's lacrosse vs. Wartburg College
DTSTART:20220312T190000Z
END:VEVENT
END:VCALENDAR
