BEGIN:VCALENDAR
VERSION:2.0
PRODID:-//hacksw/handcal//NONSGML v1.0//EN
CALSCALE:GREGORIAN
BEGIN:VEVENT
DTEND:20220423T200000Z
UID: 69e7be26c8559
DTSTAMP:20260421T131254Z
LOCATION:Centennial Hall
DESCRIPTION:The Jenny Lind Vocal Ensemble\,&nbsp\;Augustana Concert Chorale and Augustana Academic Chorus will perform.\n\nThe concert will feature winners of the annual Webster Competition. Monetary awards are presented annually to voice students in pursuit of a vocal career. This year's winners are sopranoes Sarah Walton\, representing the music theatre division\, and Maria Coulter\, representing the classical division.\n\nProgram\n\nAugustana Concert Chorale&nbsp\;\n\nExsultate! Jubilate! — Kyle Pederson&nbsp\;\n\nAve Verum Corpus — Wolfgang Amadeus Mozart&nbsp\;\n\nThere Was A Time — Elaine Hagenberg&nbsp\;\n\nSing Me to Heaven — Daniel E. Gawthrop&nbsp\;\n\nVum Vive Vum from Angel of Light — Kevin Siegfried&nbsp\;\n\nWebster Competition Winners&nbsp\;\n\nNew York\, Do You Care? — Carner &amp\; Gregor from Island Song&nbsp\;\nSarah Walton\, soprano\, music theater division&nbsp\;\n\nMein Herr Marquis — Johann Strauss II from Die Fiedermaus&nbsp\;\nMaria Coulter\, soprano\, classical division&nbsp\;\n\nAcademic Chorus\n\nA Jubilant Song — Allen Pote\nEmma Pilmer\, conductor\n\nThe Moon Is Distant from the Sea — David N. Childs\nAnnaliese Croasdale\, conductor\n\nShuele Aroon — traditional\, arr. Ruth Elaine Schram\nJonathan Jaworowski\, conductor\n\nLove Has Broken Down the Wall — Mark A. Miller\nColin Claytor\, conductor\n\nJenny Lind Vocal Ensemble\n\nPsalm 100 — René Clausen\nGail Baldwin and Chris Nelson\, piano\n\nUbi caritas et amor — Ēriks Ešenvalds\n\nMolaimis go léir an tAon-Mhac Críost — Ben Hanlon\n\nLoch Lomond — traditional/arr. Jonathan Quick\;\, ed Larry Nickel\nNoel Huntley\, solo\n\nThe Fire Dance of Luna — Darius Lim\nOscar Peterson-Veatch\, snare\; Savonia Mahr-Threw\, bass\n\nThe Steven Boone Webster Vocal Performance Award was established in 1998 by Steven's parents\, Earl and Leila Anseen Webster\, his sister Silvia Anseen Webster\, and many friends. Mrs. Webster's parents\, the Rev. Nils Peter and Mrs. Augusta Sundberg Anseen\, were a strong influence on Steven Webster.\n\nRev. Anseen was an 1897 graduate of Augustana\, and graduated from the seminary in 1902. Mrs. Anseen was talented in both voice and organ and served the Augustana Lutheran Church in several administrative capacities.\n
URL;VALUE=URI:https://www.augustana.edu/about-us/events/2022/jenny-lind-vocal-ensemble-and-concert-chorale-performance
SUMMARY:Jenny Lind Vocal Ensemble and Concert Chorale performance
DTSTART:20220423T200000Z
END:VEVENT
END:VCALENDAR
