BEGIN:VCALENDAR
VERSION:2.0
PRODID:-//hacksw/handcal//NONSGML v1.0//EN
CALSCALE:GREGORIAN
BEGIN:VEVENT
DTEND:20220310T010000Z
UID: 69e7bb08af43a
DTSTAMP:20260421T125936Z
LOCATION:Thorson-Lucken Field
DESCRIPTION:The Augustana women's lacrosse team will host the Edgewood College Eagles in their home opener.\n\nThe Vikings will play Wartburg at home March 12 before traveling for four straight games.\n\n→ See the women's lacrosse schedule\n
URL;VALUE=URI:https://www.augustana.edu/about-us/events/2022/womens-lacrosse-vs-edgewood-college
SUMMARY:Women's lacrosse vs. Edgewood College
DTSTART:20220310T010000Z
END:VEVENT
END:VCALENDAR
