BEGIN:VCALENDAR
VERSION:2.0
PRODID:-//hacksw/handcal//NONSGML v1.0//EN
CALSCALE:GREGORIAN
BEGIN:VEVENT
DTEND:20220317T010000Z
UID: 69e7be7a95f3c
DTSTAMP:20260421T131418Z
LOCATION:Denkmann Memorial Building
DESCRIPTION:New York-based drummer Matt Wilson\,&nbsp\;named 2018 Musician of the Year by the Jazz Journalists Association\, will bring his Arts &amp\; Crafts ensemble to Augustana.\n\nOriginally from Knoxville\, Ill.\, Wilson joins Gary Versace on piano\, Martin Wind on bass\, and Mike Rodriguez on trumpet in a highly regarded jazz quartet.\n\nThe performance is sponsored by Augustana College and St. Ambrose University\, with additional financial assistance from the Augustana Humanities Fund.&nbsp\;\n&nbsp\;\n
URL;VALUE=URI:https://www.augustana.edu/about-us/events/2022/guest-artist-matt-wilsons-arts-crafts
SUMMARY:Guest artist: Matt Wilson's Arts & Crafts
DTSTART:20220317T010000Z
END:VEVENT
END:VCALENDAR
