BEGIN:VCALENDAR
VERSION:2.0
PRODID:-//hacksw/handcal//NONSGML v1.0//EN
CALSCALE:GREGORIAN
BEGIN:VEVENT
DTEND:20220313T210000Z
UID: 69e7bb57e0823
DTSTAMP:20260421T130055Z
LOCATION:First Lutheran Church (Galesburg)
DESCRIPTION:The Augustana Choir will perform as part of the 2021-22 season of the Galesburg Community Chorus.\n\nTickets are available at the door.\n\nThe choir will perform an a cappella program of works from a variety of cultures and time periods.\n\nThe Galesburg Community Chorus is the oldest community music organization in the Galesburg area and is celebrating its 77th anniversary.&nbsp\;\n
URL;VALUE=URI:https://www.augustana.edu/about-us/events/2022/augustana-choir-performance
SUMMARY:Augustana Choir performance
DTSTART:20220313T210000Z
END:VEVENT
END:VCALENDAR
