BEGIN:VCALENDAR
VERSION:2.0
PRODID:-//hacksw/handcal//NONSGML v1.0//EN
CALSCALE:GREGORIAN
BEGIN:VEVENT
DTEND:20220409T003000Z
UID: 69e7be895d34e
DTSTAMP:20260421T131433Z
LOCATION:Centennial Hall
DESCRIPTION:Aaron Dworkin will perform his spoken word composition\, "The American Rhapsody\," with the Augustana Symphony Orchestra\, Fernanda Lastra conducting.\n\nDworkin was a member of the Obama National Arts Policy Committee and is the founder and president of the Sphinx Organization\, a group that focuses on bringing diversity into the arts.\n\n"The American Rhapsody" tells the story of the U.S. through the life and words of George Washington. The work is set to Samuel Coleridge Taylor’s "Symphonic Variations on an African Air."\n\n"The American Rhapsody" integrates and weaves together the literary content with the music through a process Dworkin calls “musetry.” (See his interview with WVIK's "Talking Art')\n\nNamed a 2005 MacArthur Fellow\, Dworkin served as dean of the University of Michigan’s School of Music\, Theatre &amp\; Dance and is currently a professor there.\n\nThe Augustana Symphony Orchestra is a full-size symphonic orchestra of 70-80 members that has an active and diverse performing schedule throughout the year.\n
URL;VALUE=URI:https://www.augustana.edu/about-us/events/2022/american-rhapsody
SUMMARY:The American Rhapsody
DTSTART:20220409T003000Z
END:VEVENT
END:VCALENDAR
