BEGIN:VCALENDAR
VERSION:2.0
PRODID:-//hacksw/handcal//NONSGML v1.0//EN
CALSCALE:GREGORIAN
BEGIN:VEVENT
DTEND:20220218T010000Z
UID: 69e7d0d064c7e
DTSTAMP:20260421T143232Z
LOCATION:Olin Center for Educational Technology
DESCRIPTION:The annual Francophone Film Festival at Augustana will screen a film each Thursday through March 5.\n\nAll films are free and open to the public.&nbsp\;\n\nTonight's film is "The Extraordinary Adventures of Adèle Blanc-Sec." The&nbsp\;2010 French fantasy adventure feature loosely is based on a comic book series that focuses on a popular novelist and her dealings with would-be suitors\, the cops\, monsters and other distractions.\n\nRated PG\, 1 hour and 47 minutes\n
URL;VALUE=URI:https://www.augustana.edu/about-us/events/2022/francophone-film-festival-extraordinary-adventures-adele-blanc-sec
SUMMARY:Francophone Film Festival: 'The Extraordinary Adventures of Adèle Blanc-Sec'
DTSTART:20220218T010000Z
END:VEVENT
END:VCALENDAR
