BEGIN:VCALENDAR
VERSION:2.0
PRODID:-//hacksw/handcal//NONSGML v1.0//EN
CALSCALE:GREGORIAN
BEGIN:VEVENT
DTEND:20220212T174500Z
UID: 69e7d12d0a4ce
DTSTAMP:20260421T143405Z
LOCATION:Brodahl Hall
DESCRIPTION:Faculty and students in the Master of Science in Speech-Language Pathology program at Augustana College invite prospective students to spend the day with them on campus.\n\nVisitors can tour campus\, dine in the Gerber Center and talk with faculty and current students. The visit will include a tour of the newly expanded facilities in Brodahl Hall.\n\n(A virtual visit is available for students who are unable to attend.)\n\nSchedule\n\n11:45 a.m. Check-in at Brodahl Hall.&nbsp\;For the most convenient parking\, use Lot J.\n\nNoon-12:45 p.m. Lunch in the Gerber Center\n\n12:45-2 p.m. Information session\, Brodahl Hall\n\n2-2:30 p.m. Tour of Brodahl Hall\n\n2:30-3:30 p.m. Graduate student tour of campus\n
URL;VALUE=URI:https://www.augustana.edu/about-us/events/2022/master-science-speech-language-pathology-visit-day
SUMMARY:Master of Science in Speech-Language Pathology Visit Day
DTSTART:20220212T174500Z
END:VEVENT
END:VCALENDAR
