BEGIN:VCALENDAR
VERSION:2.0
PRODID:-//hacksw/handcal//NONSGML v1.0//EN
CALSCALE:GREGORIAN
BEGIN:VEVENT
DTEND:20220314T140000Z
UID: 69e7d1349c7f1
DTSTAMP:20260421T143412Z
LOCATION:Seminary Hall
DESCRIPTION:High school students and their families are invited to a Spring Viking Visit to learn more about what Augustana College has to offer.&nbsp\;Spring Viking Visits also are offered March 28 and April 1.\n\nThese special days include a tour\, workshops and a presentation by Admissions for prospective students and their families.\n\nAdmitted students also are invited to lunch and may request a one-on-one meeting with the Financial Aid staff.\n\nSign-up for Spring Viking Visits will begin in mid-February.\n
URL;VALUE=URI:https://www.augustana.edu/about-us/events/2022/spring-viking-visit
SUMMARY:Spring Viking Visit
DTSTART:20220314T140000Z
END:VEVENT
END:VCALENDAR
