BEGIN:VCALENDAR
VERSION:2.0
PRODID:-//hacksw/handcal//NONSGML v1.0//EN
CALSCALE:GREGORIAN
BEGIN:VEVENT
DTEND:20220204T230000Z
UID: 69e7d0d063aa5
DTSTAMP:20260421T143232Z
LOCATION:Galvin Fine Arts Center
DESCRIPTION:Professor Rowen Schussheim-Anderson will discuss her exhibit\, "Tapestry Collage\," at a reception.\n\nThe exhibit that will run from Jan. 24-Feb. 25 at the&nbsp\;Galvin Fine Arts Center\, St. Ambrose University\, Davenport.\n\nThe Morrissey Gallery inside the center is open from 9 a.m.-5 p.m. weekdays. Admission is free. Masks are required.\n\nSchussheim-Anderson has been teaching at Augustana since 1982 and has served as the art and graphic design department chair.\n\nHer work pushes the boundaries of traditional tapestry weaving. Her studies in New York and Arizona put her in touch with both time-honored fine arts and indigenous craft traditions.\n\nSchussheim-Anderson’s tapestries&nbsp\;explore the power of textiles as bearers of meaning — thick\, embellished warps tangled and rich enough to hold the meaning and power of messages.\n\nShe produces woven tapestries both large and small\, wall-mounted and suspended forms. A recent focus has been incorporating beads and beaded strands into her tapestries. &nbsp\;\n
URL;VALUE=URI:https://www.augustana.edu/about-us/events/2022/tapestry-collage
SUMMARY:Tapestry Collage
DTSTART:20220204T230000Z
END:VEVENT
END:VCALENDAR
